BEGIN:VCALENDAR
VERSION:2.0
PRODID:https://www.kufer.de/kuferweb / DE
METHOD:PUBLISH
CALSCALE:GREGORIAN
X-WR-TIMEZONE:Europe/Berlin
BEGIN:VTIMEZONE
TZID:Europe/Berlin
X-LIC-LOCATION:Europe/Berlin
BEGIN:DAYLIGHT
TZOFFSETFROM:+0100
TZOFFSETTO:+0200
TZNAME:CEST
DTSTART:19700329T020000
RRULE:FREQ=YEARLY;INTERVAL=1;BYDAY=-1SU;BYMONTH=3
END:DAYLIGHT
BEGIN:STANDARD
TZOFFSETFROM:+0200
TZOFFSETTO:+0100
TZNAME:CET
DTSTART:19701025T030000
RRULE:FREQ=YEARLY;INTERVAL=1;BYDAY=-1SU;BYMONTH=10
END:STANDARD
END:VTIMEZONE
BEGIN:VEVENT
DTSTAMP:20260424T121942
DTSTART;TZID=Europe/Berlin:20260826T094500
DTEND;TZID=Europe/Berlin:20260826T110000
UID:262-Y459-20260826T094500@EV. FZ IZITZEHOE
SUMMARY:Yoga für Frauen mit und ohne Baby (262-Y459) 
LOCATION:Schütterberg 19, 25524 Itzehoe
END:VEVENT
BEGIN:VEVENT
DTSTAMP:20260424T121942
DTSTART;TZID=Europe/Berlin:20260902T094500
DTEND;TZID=Europe/Berlin:20260902T110000
UID:262-Y459-20260902T094500@EV. FZ IZITZEHOE
SUMMARY:Yoga für Frauen mit und ohne Baby (262-Y459) 
LOCATION:Schütterberg 19, 25524 Itzehoe
END:VEVENT
BEGIN:VEVENT
DTSTAMP:20260424T121942
DTSTART;TZID=Europe/Berlin:20260909T094500
DTEND;TZID=Europe/Berlin:20260909T110000
UID:262-Y459-20260909T094500@EV. FZ IZITZEHOE
SUMMARY:Yoga für Frauen mit und ohne Baby (262-Y459) 
LOCATION:Schütterberg 19, 25524 Itzehoe
END:VEVENT
BEGIN:VEVENT
DTSTAMP:20260424T121942
DTSTART;TZID=Europe/Berlin:20260916T094500
DTEND;TZID=Europe/Berlin:20260916T110000
UID:262-Y459-20260916T094500@EV. FZ IZITZEHOE
SUMMARY:Yoga für Frauen mit und ohne Baby (262-Y459) 
LOCATION:Schütterberg 19, 25524 Itzehoe
END:VEVENT
BEGIN:VEVENT
DTSTAMP:20260424T121942
DTSTART;TZID=Europe/Berlin:20260923T094500
DTEND;TZID=Europe/Berlin:20260923T110000
UID:262-Y459-20260923T094500@EV. FZ IZITZEHOE
SUMMARY:Yoga für Frauen mit und ohne Baby (262-Y459) 
LOCATION:Schütterberg 19, 25524 Itzehoe
END:VEVENT
BEGIN:VEVENT
DTSTAMP:20260424T121942
DTSTART;TZID=Europe/Berlin:20260930T094500
DTEND;TZID=Europe/Berlin:20260930T110000
UID:262-Y459-20260930T094500@EV. FZ IZITZEHOE
SUMMARY:Yoga für Frauen mit und ohne Baby (262-Y459) 
LOCATION:Schütterberg 19, 25524 Itzehoe
END:VEVENT
END:VCALENDAR