BEGIN:VCALENDAR
VERSION:2.0
PRODID:https://www.kufer.de/kuferweb / DE
METHOD:PUBLISH
CALSCALE:GREGORIAN
X-WR-TIMEZONE:Europe/Berlin
BEGIN:VTIMEZONE
TZID:Europe/Berlin
X-LIC-LOCATION:Europe/Berlin
BEGIN:DAYLIGHT
TZOFFSETFROM:+0100
TZOFFSETTO:+0200
TZNAME:CEST
DTSTART:19700329T020000
RRULE:FREQ=YEARLY;INTERVAL=1;BYDAY=-1SU;BYMONTH=3
END:DAYLIGHT
BEGIN:STANDARD
TZOFFSETFROM:+0200
TZOFFSETTO:+0100
TZNAME:CET
DTSTART:19701025T030000
RRULE:FREQ=YEARLY;INTERVAL=1;BYDAY=-1SU;BYMONTH=10
END:STANDARD
END:VTIMEZONE
BEGIN:VEVENT
DTSTAMP:20260422T151356
DTSTART;TZID=Europe/Berlin:20261028T094500
DTEND;TZID=Europe/Berlin:20261028T110000
UID:262-Y4510-20261028T094500@EV. FZ IZITZEHOE
SUMMARY:Yoga für Frauen (mit und ohne Baby) (262-Y4510) 
LOCATION:Schütterberg 19, 25524 Itzehoe
END:VEVENT
BEGIN:VEVENT
DTSTAMP:20260422T151356
DTSTART;TZID=Europe/Berlin:20261104T094500
DTEND;TZID=Europe/Berlin:20261104T110000
UID:262-Y4510-20261104T094500@EV. FZ IZITZEHOE
SUMMARY:Yoga für Frauen (mit und ohne Baby) (262-Y4510) 
LOCATION:Schütterberg 19, 25524 Itzehoe
END:VEVENT
BEGIN:VEVENT
DTSTAMP:20260422T151356
DTSTART;TZID=Europe/Berlin:20261111T094500
DTEND;TZID=Europe/Berlin:20261111T110000
UID:262-Y4510-20261111T094500@EV. FZ IZITZEHOE
SUMMARY:Yoga für Frauen (mit und ohne Baby) (262-Y4510) 
LOCATION:Schütterberg 19, 25524 Itzehoe
END:VEVENT
BEGIN:VEVENT
DTSTAMP:20260422T151356
DTSTART;TZID=Europe/Berlin:20261118T094500
DTEND;TZID=Europe/Berlin:20261118T110000
UID:262-Y4510-20261118T094500@EV. FZ IZITZEHOE
SUMMARY:Yoga für Frauen (mit und ohne Baby) (262-Y4510) 
LOCATION:Schütterberg 19, 25524 Itzehoe
END:VEVENT
BEGIN:VEVENT
DTSTAMP:20260422T151356
DTSTART;TZID=Europe/Berlin:20261125T094500
DTEND;TZID=Europe/Berlin:20261125T110000
UID:262-Y4510-20261125T094500@EV. FZ IZITZEHOE
SUMMARY:Yoga für Frauen (mit und ohne Baby) (262-Y4510) 
LOCATION:Schütterberg 19, 25524 Itzehoe
END:VEVENT
BEGIN:VEVENT
DTSTAMP:20260422T151356
DTSTART;TZID=Europe/Berlin:20261202T094500
DTEND;TZID=Europe/Berlin:20261202T110000
UID:262-Y4510-20261202T094500@EV. FZ IZITZEHOE
SUMMARY:Yoga für Frauen (mit und ohne Baby) (262-Y4510) 
LOCATION:Schütterberg 19, 25524 Itzehoe
END:VEVENT
BEGIN:VEVENT
DTSTAMP:20260422T151356
DTSTART;TZID=Europe/Berlin:20261209T094500
DTEND;TZID=Europe/Berlin:20261209T110000
UID:262-Y4510-20261209T094500@EV. FZ IZITZEHOE
SUMMARY:Yoga für Frauen (mit und ohne Baby) (262-Y4510) 
LOCATION:Schütterberg 19, 25524 Itzehoe
END:VEVENT
END:VCALENDAR