BEGIN:VCALENDAR
VERSION:2.0
PRODID:https://www.kufer.de/kuferweb / DE
METHOD:PUBLISH
CALSCALE:GREGORIAN
X-WR-TIMEZONE:Europe/Berlin
BEGIN:VTIMEZONE
TZID:Europe/Berlin
X-LIC-LOCATION:Europe/Berlin
BEGIN:DAYLIGHT
TZOFFSETFROM:+0100
TZOFFSETTO:+0200
TZNAME:CEST
DTSTART:19700329T020000
RRULE:FREQ=YEARLY;INTERVAL=1;BYDAY=-1SU;BYMONTH=3
END:DAYLIGHT
BEGIN:STANDARD
TZOFFSETFROM:+0200
TZOFFSETTO:+0100
TZNAME:CET
DTSTART:19701025T030000
RRULE:FREQ=YEARLY;INTERVAL=1;BYDAY=-1SU;BYMONTH=10
END:STANDARD
END:VTIMEZONE
BEGIN:VEVENT
DTSTAMP:20260424T122322
DTSTART;TZID=Europe/Berlin:20260429T103000
DTEND;TZID=Europe/Berlin:20260429T113000
UID:2610000213-20260429T103000@EV. FZ IZITZEHOE
SUMMARY:Robben, Krabbeln, Aufstehen los ... Bewegungs- und Wahrnehmungsförderung für Kleinkinder (2610000213) 
LOCATION:Wilhelmstraße 4, Itzehoe, Wilhelmstraße 4, 25524 Itzehoe
END:VEVENT
BEGIN:VEVENT
DTSTAMP:20260424T122322
DTSTART;TZID=Europe/Berlin:20260506T103000
DTEND;TZID=Europe/Berlin:20260506T113000
UID:2610000213-20260506T103000@EV. FZ IZITZEHOE
SUMMARY:Robben, Krabbeln, Aufstehen los ... Bewegungs- und Wahrnehmungsförderung für Kleinkinder (2610000213) 
LOCATION:Wilhelmstraße 4, Itzehoe, Wilhelmstraße 4, 25524 Itzehoe
END:VEVENT
BEGIN:VEVENT
DTSTAMP:20260424T122322
DTSTART;TZID=Europe/Berlin:20260513T103000
DTEND;TZID=Europe/Berlin:20260513T113000
UID:2610000213-20260513T103000@EV. FZ IZITZEHOE
SUMMARY:Robben, Krabbeln, Aufstehen los ... Bewegungs- und Wahrnehmungsförderung für Kleinkinder (2610000213) 
LOCATION:Wilhelmstraße 4, Itzehoe, Wilhelmstraße 4, 25524 Itzehoe
END:VEVENT
BEGIN:VEVENT
DTSTAMP:20260424T122322
DTSTART;TZID=Europe/Berlin:20260520T103000
DTEND;TZID=Europe/Berlin:20260520T113000
UID:2610000213-20260520T103000@EV. FZ IZITZEHOE
SUMMARY:Robben, Krabbeln, Aufstehen los ... Bewegungs- und Wahrnehmungsförderung für Kleinkinder (2610000213) 
LOCATION:Wilhelmstraße 4, Itzehoe, Wilhelmstraße 4, 25524 Itzehoe
END:VEVENT
BEGIN:VEVENT
DTSTAMP:20260424T122322
DTSTART;TZID=Europe/Berlin:20260527T103000
DTEND;TZID=Europe/Berlin:20260527T113000
UID:2610000213-20260527T103000@EV. FZ IZITZEHOE
SUMMARY:Robben, Krabbeln, Aufstehen los ... Bewegungs- und Wahrnehmungsförderung für Kleinkinder (2610000213) 
LOCATION:Wilhelmstraße 4, Itzehoe, Wilhelmstraße 4, 25524 Itzehoe
END:VEVENT
BEGIN:VEVENT
DTSTAMP:20260424T122322
DTSTART;TZID=Europe/Berlin:20260610T103000
DTEND;TZID=Europe/Berlin:20260610T113000
UID:2610000213-20260610T103000@EV. FZ IZITZEHOE
SUMMARY:Robben, Krabbeln, Aufstehen los ... Bewegungs- und Wahrnehmungsförderung für Kleinkinder (2610000213) 
LOCATION:Wilhelmstraße 4, Itzehoe, Wilhelmstraße 4, 25524 Itzehoe
END:VEVENT
BEGIN:VEVENT
DTSTAMP:20260424T122322
DTSTART;TZID=Europe/Berlin:20260617T103000
DTEND;TZID=Europe/Berlin:20260617T113000
UID:2610000213-20260617T103000@EV. FZ IZITZEHOE
SUMMARY:Robben, Krabbeln, Aufstehen los ... Bewegungs- und Wahrnehmungsförderung für Kleinkinder (2610000213) 
LOCATION:Wilhelmstraße 4, Itzehoe, Wilhelmstraße 4, 25524 Itzehoe
END:VEVENT
BEGIN:VEVENT
DTSTAMP:20260424T122322
DTSTART;TZID=Europe/Berlin:20260624T103000
DTEND;TZID=Europe/Berlin:20260624T113000
UID:2610000213-20260624T103000@EV. FZ IZITZEHOE
SUMMARY:Robben, Krabbeln, Aufstehen los ... Bewegungs- und Wahrnehmungsförderung für Kleinkinder (2610000213) 
LOCATION:Wilhelmstraße 4, Itzehoe, Wilhelmstraße 4, 25524 Itzehoe
END:VEVENT
BEGIN:VEVENT
DTSTAMP:20260424T122322
DTSTART;TZID=Europe/Berlin:20260701T103000
DTEND;TZID=Europe/Berlin:20260701T113000
UID:2610000213-20260701T103000@EV. FZ IZITZEHOE
SUMMARY:Robben, Krabbeln, Aufstehen los ... Bewegungs- und Wahrnehmungsförderung für Kleinkinder (2610000213) 
LOCATION:Wilhelmstraße 4, Itzehoe, Wilhelmstraße 4, 25524 Itzehoe
END:VEVENT
END:VCALENDAR