BEGIN:VCALENDAR
VERSION:2.0
PRODID:https://www.kufer.de/kuferweb / DE
METHOD:PUBLISH
CALSCALE:GREGORIAN
X-WR-TIMEZONE:Europe/Berlin
BEGIN:VTIMEZONE
TZID:Europe/Berlin
X-LIC-LOCATION:Europe/Berlin
BEGIN:DAYLIGHT
TZOFFSETFROM:+0100
TZOFFSETTO:+0200
TZNAME:CEST
DTSTART:19700329T020000
RRULE:FREQ=YEARLY;INTERVAL=1;BYDAY=-1SU;BYMONTH=3
END:DAYLIGHT
BEGIN:STANDARD
TZOFFSETFROM:+0200
TZOFFSETTO:+0100
TZNAME:CET
DTSTART:19701025T030000
RRULE:FREQ=YEARLY;INTERVAL=1;BYDAY=-1SU;BYMONTH=10
END:STANDARD
END:VTIMEZONE
BEGIN:VEVENT
DTSTAMP:20260424T140845
DTSTART;TZID=Europe/Berlin:20260513T173000
DTEND;TZID=Europe/Berlin:20260513T190000
UID:261-W459-20260513T173000@EV. FZ IZITZEHOE
SUMMARY:Yoga ab 50 Raus aus dem Alltagstress - und zu sich selbst finden. (261-W459) 
LOCATION:Wilhelmstraße 4, Itzehoe, Wilhelmstraße 4, 25524 Itzehoe
END:VEVENT
BEGIN:VEVENT
DTSTAMP:20260424T140845
DTSTART;TZID=Europe/Berlin:20260520T173000
DTEND;TZID=Europe/Berlin:20260520T190000
UID:261-W459-20260520T173000@EV. FZ IZITZEHOE
SUMMARY:Yoga ab 50 Raus aus dem Alltagstress - und zu sich selbst finden. (261-W459) 
LOCATION:Wilhelmstraße 4, Itzehoe, Wilhelmstraße 4, 25524 Itzehoe
END:VEVENT
BEGIN:VEVENT
DTSTAMP:20260424T140845
DTSTART;TZID=Europe/Berlin:20260527T173000
DTEND;TZID=Europe/Berlin:20260527T190000
UID:261-W459-20260527T173000@EV. FZ IZITZEHOE
SUMMARY:Yoga ab 50 Raus aus dem Alltagstress - und zu sich selbst finden. (261-W459) 
LOCATION:Wilhelmstraße 4, Itzehoe, Wilhelmstraße 4, 25524 Itzehoe
END:VEVENT
BEGIN:VEVENT
DTSTAMP:20260424T140845
DTSTART;TZID=Europe/Berlin:20260603T173000
DTEND;TZID=Europe/Berlin:20260603T190000
UID:261-W459-20260603T173000@EV. FZ IZITZEHOE
SUMMARY:Yoga ab 50 Raus aus dem Alltagstress - und zu sich selbst finden. (261-W459) 
LOCATION:Wilhelmstraße 4, Itzehoe, Wilhelmstraße 4, 25524 Itzehoe
END:VEVENT
BEGIN:VEVENT
DTSTAMP:20260424T140845
DTSTART;TZID=Europe/Berlin:20260610T173000
DTEND;TZID=Europe/Berlin:20260610T190000
UID:261-W459-20260610T173000@EV. FZ IZITZEHOE
SUMMARY:Yoga ab 50 Raus aus dem Alltagstress - und zu sich selbst finden. (261-W459) 
LOCATION:Wilhelmstraße 4, Itzehoe, Wilhelmstraße 4, 25524 Itzehoe
END:VEVENT
BEGIN:VEVENT
DTSTAMP:20260424T140845
DTSTART;TZID=Europe/Berlin:20260617T173000
DTEND;TZID=Europe/Berlin:20260617T190000
UID:261-W459-20260617T173000@EV. FZ IZITZEHOE
SUMMARY:Yoga ab 50 Raus aus dem Alltagstress - und zu sich selbst finden. (261-W459) 
LOCATION:Wilhelmstraße 4, Itzehoe, Wilhelmstraße 4, 25524 Itzehoe
END:VEVENT
BEGIN:VEVENT
DTSTAMP:20260424T140845
DTSTART;TZID=Europe/Berlin:20260624T173000
DTEND;TZID=Europe/Berlin:20260624T190000
UID:261-W459-20260624T173000@EV. FZ IZITZEHOE
SUMMARY:Yoga ab 50 Raus aus dem Alltagstress - und zu sich selbst finden. (261-W459) 
LOCATION:Wilhelmstraße 4, Itzehoe, Wilhelmstraße 4, 25524 Itzehoe
END:VEVENT
BEGIN:VEVENT
DTSTAMP:20260424T140845
DTSTART;TZID=Europe/Berlin:20260701T173000
DTEND;TZID=Europe/Berlin:20260701T190000
UID:261-W459-20260701T173000@EV. FZ IZITZEHOE
SUMMARY:Yoga ab 50 Raus aus dem Alltagstress - und zu sich selbst finden. (261-W459) 
LOCATION:Wilhelmstraße 4, Itzehoe, Wilhelmstraße 4, 25524 Itzehoe
END:VEVENT
BEGIN:VEVENT
DTSTAMP:20260424T140845
DTSTART;TZID=Europe/Berlin:20260708T173000
DTEND;TZID=Europe/Berlin:20260708T190000
UID:261-W459-20260708T173000@EV. FZ IZITZEHOE
SUMMARY:Yoga ab 50 Raus aus dem Alltagstress - und zu sich selbst finden. (261-W459) 
LOCATION:Wilhelmstraße 4, Itzehoe, Wilhelmstraße 4, 25524 Itzehoe
END:VEVENT
END:VCALENDAR